Workbook

Sheet Foglio1
A1: 28th INTERNATIONAL MASTER BUDO
A2: CORNO DI ROSAZZO (UD) 11-12-13 APRILE 2025
A3: DOJO: | I3: CITTA': | N3: PROV: | Q3: CAP: | T3: STATO:
A4: DIRETTORE TECNICO: | I4: MAIL: | O4: CELLULARE: | S4: DATA INVIO ISCRIZIONI:
A5: COGNOME E NOME | B5: TITOLO | C5: DISCIPLINA | D5: CINTURA | E5: GRADO | F5: DATA DI NASCITA | G5: ETA' | H5: STAGE | I5: COSTO | J5: CENA Venerdì | K5: COSTO cena | L5: PRANZO Sabato | M5: COSTO pranzo SA | N5: CENA Sabato | O5: COSTO cena SA | P5: PRANZO Domenica | Q5: COSTO pranzo DO | R5: ALLERGIE ALIMENTARI | S5: ALBERGO | T5: CODICE | U5: DATA ARRIVO | V5: DATA PARTENZA | W5: GIORNI | X5: COSTO hotel | Y5: TOTALE
G6: =IF(ISBLANK(F6),"",DATEDIF(F6,calcoli!Y$3,"Y")) | I6: =IF(ISBLANK(A6),"0",IF(ISBLANK(H6),"0",calcoli!C3))-calcoli!H3 -> 0 | K6: =IF(ISBLANK(A6),"",IF(ISBLANK(J6),"0",calcoli!K3)) | M6: =IF(ISBLANK(A6),"",IF(ISBLANK(L6),"0",calcoli!N3)) | O6: =IF(ISBLANK(A6),"",IF(ISBLANK(N6),"0",calcoli!Q3)) | Q6: =IF(ISBLANK(A6),"",IF(ISBLANK(P6),"0",calcoli!T3)) | W6: =IF(ISBLANK(U6),"",V6-U6) | X6: =IF(ISBLANK(A6),"",IF(ISBLANK(S6),"0",calcoli!W3)) | Y6: =IF(ISBLANK(A6),"",I6+K6+M6+O6+Q6+X6)
G7: =IF(ISBLANK(F7),"",DATEDIF(F7,calcoli!Y$3,"Y")) | I7: =IF(ISBLANK(A7),"0",IF(ISBLANK(H7),"0",calcoli!C4))-calcoli!H4 -> 0 | K7: =IF(ISBLANK(A7),"",IF(ISBLANK(J7),"0",calcoli!K4)) | M7: =IF(ISBLANK(A7),"",IF(ISBLANK(L7),"0",calcoli!N4)) | O7: =IF(ISBLANK(A7),"",IF(ISBLANK(N7),"0",calcoli!Q4)) | Q7: =IF(ISBLANK(A7),"",IF(ISBLANK(P7),"0",calcoli!T4)) | W7: =IF(ISBLANK(U7),"",V7-U7) | X7: =IF(ISBLANK(A7),"",IF(ISBLANK(S7),"0",calcoli!W4)) | Y7: =IF(ISBLANK(A7),"",I7+K7+M7+O7+Q7+X7)
G8: =IF(ISBLANK(F8),"",DATEDIF(F8,calcoli!Y$3,"Y")) | I8: =IF(ISBLANK(A8),"0",IF(ISBLANK(H8),"0",calcoli!C5))-calcoli!H5 -> 0 | K8: =IF(ISBLANK(A8),"",IF(ISBLANK(J8),"0",calcoli!K5)) | M8: =IF(ISBLANK(A8),"",IF(ISBLANK(L8),"0",calcoli!N5)) | O8: =IF(ISBLANK(A8),"",IF(ISBLANK(N8),"0",calcoli!Q5)) | Q8: =IF(ISBLANK(A8),"",IF(ISBLANK(P8),"0",calcoli!T5)) | W8: =IF(ISBLANK(U8),"",V8-U8) | X8: =IF(ISBLANK(A8),"",IF(ISBLANK(S8),"0",calcoli!W5)) | Y8: =IF(ISBLANK(A8),"",I8+K8+M8+O8+Q8+X8)
G9: =IF(ISBLANK(F9),"",DATEDIF(F9,calcoli!Y$3,"Y")) | I9: =IF(ISBLANK(A9),"0",IF(ISBLANK(H9),"0",calcoli!C6))-calcoli!H6 -> 0 | K9: =IF(ISBLANK(A9),"",IF(ISBLANK(J9),"0",calcoli!K6)) | M9: =IF(ISBLANK(A9),"",IF(ISBLANK(L9),"0",calcoli!N6)) | O9: =IF(ISBLANK(A9),"",IF(ISBLANK(N9),"0",calcoli!Q6)) | Q9: =IF(ISBLANK(A9),"",IF(ISBLANK(P9),"0",calcoli!T6)) | W9: =IF(ISBLANK(U9),"",V9-U9) | X9: =IF(ISBLANK(A9),"",IF(ISBLANK(S9),"0",calcoli!W6)) | Y9: =IF(ISBLANK(A9),"",I9+K9+M9+O9+Q9+X9)
G10: =IF(ISBLANK(F10),"",DATEDIF(F10,calcoli!Y$3,"Y")) | I10: =IF(ISBLANK(A10),"0",IF(ISBLANK(H10),"0",calcoli!C7))-calcoli!H7 -> 0 | K10: =IF(ISBLANK(A10),"",IF(ISBLANK(J10),"0",calcoli!K7)) | M10: =IF(ISBLANK(A10),"",IF(ISBLANK(L10),"0",calcoli!N7)) | O10: =IF(ISBLANK(A10),"",IF(ISBLANK(N10),"0",calcoli!Q7)) | Q10: =IF(ISBLANK(A10),"",IF(ISBLANK(P10),"0",calcoli!T7)) | W10: =IF(ISBLANK(U10),"",V10-U10) | X10: =IF(ISBLANK(A10),"",IF(ISBLANK(S10),"0",calcoli!W7)) | Y10: =IF(ISBLANK(A10),"",I10+K10+M10+O10+Q10+X10)
G11: =IF(ISBLANK(F11),"",DATEDIF(F11,calcoli!Y$3,"Y")) | I11: =IF(ISBLANK(A11),"0",IF(ISBLANK(H11),"0",calcoli!C8))-calcoli!H8 -> 0 | K11: =IF(ISBLANK(A11),"",IF(ISBLANK(J11),"0",calcoli!K8)) | M11: =IF(ISBLANK(A11),"",IF(ISBLANK(L11),"0",calcoli!N8)) | O11: =IF(ISBLANK(A11),"",IF(ISBLANK(N11),"0",calcoli!Q8)) | Q11: =IF(ISBLANK(A11),"",IF(ISBLANK(P11),"0",calcoli!T8)) | W11: =IF(ISBLANK(U11),"",V11-U11) | X11: =IF(ISBLANK(A11),"",IF(ISBLANK(S11),"0",calcoli!W8)) | Y11: =IF(ISBLANK(A11),"",I11+K11+M11+O11+Q11+X11)
G12: =IF(ISBLANK(F12),"",DATEDIF(F12,calcoli!Y$3,"Y")) | I12: =IF(ISBLANK(A12),"0",IF(ISBLANK(H12),"0",calcoli!C9))-calcoli!H9 -> 0 | K12: =IF(ISBLANK(A12),"",IF(ISBLANK(J12),"0",calcoli!K9)) | M12: =IF(ISBLANK(A12),"",IF(ISBLANK(L12),"0",calcoli!N9)) | O12: =IF(ISBLANK(A12),"",IF(ISBLANK(N12),"0",calcoli!Q9)) | Q12: =IF(ISBLANK(A12),"",IF(ISBLANK(P12),"0",calcoli!T9)) | W12: =IF(ISBLANK(U12),"",V12-U12) | X12: =IF(ISBLANK(A12),"",IF(ISBLANK(S12),"0",calcoli!W9)) | Y12: =IF(ISBLANK(A12),"",I12+K12+M12+O12+Q12+X12)
G13: =IF(ISBLANK(F13),"",DATEDIF(F13,calcoli!Y$3,"Y")) | I13: =IF(ISBLANK(A13),"0",IF(ISBLANK(H13),"0",calcoli!C10))-calcoli!H10 -> 0 | K13: =IF(ISBLANK(A13),"",IF(ISBLANK(J13),"0",calcoli!K10)) | M13: =IF(ISBLANK(A13),"",IF(ISBLANK(L13),"0",calcoli!N10)) | O13: =IF(ISBLANK(A13),"",IF(ISBLANK(N13),"0",calcoli!Q10)) | Q13: =IF(ISBLANK(A13),"",IF(ISBLANK(P13),"0",calcoli!T10)) | W13: =IF(ISBLANK(U13),"",V13-U13) | X13: =IF(ISBLANK(A13),"",IF(ISBLANK(S13),"0",calcoli!W10)) | Y13: =IF(ISBLANK(A13),"",I13+K13+M13+O13+Q13+X13)
G14: =IF(ISBLANK(F14),"",DATEDIF(F14,calcoli!Y$3,"Y")) | I14: =IF(ISBLANK(A14),"0",IF(ISBLANK(H14),"0",calcoli!C11))-calcoli!H11 -> 0 | K14: =IF(ISBLANK(A14),"",IF(ISBLANK(J14),"0",calcoli!K11)) | M14: =IF(ISBLANK(A14),"",IF(ISBLANK(L14),"0",calcoli!N11)) | O14: =IF(ISBLANK(A14),"",IF(ISBLANK(N14),"0",calcoli!Q11)) | Q14: =IF(ISBLANK(A14),"",IF(ISBLANK(P14),"0",calcoli!T11)) | W14: =IF(ISBLANK(U14),"",V14-U14) | X14: =IF(ISBLANK(A14),"",IF(ISBLANK(S14),"0",calcoli!W11)) | Y14: =IF(ISBLANK(A14),"",I14+K14+M14+O14+Q14+X14)
G15: =IF(ISBLANK(F15),"",DATEDIF(F15,calcoli!Y$3,"Y")) | I15: =IF(ISBLANK(A15),"0",IF(ISBLANK(H15),"0",calcoli!C12))-calcoli!H12 -> 0 | K15: =IF(ISBLANK(A15),"",IF(ISBLANK(J15),"0",calcoli!K12)) | M15: =IF(ISBLANK(A15),"",IF(ISBLANK(L15),"0",calcoli!N12)) | O15: =IF(ISBLANK(A15),"",IF(ISBLANK(N15),"0",calcoli!Q12)) | Q15: =IF(ISBLANK(A15),"",IF(ISBLANK(P15),"0",calcoli!T12)) | W15: =IF(ISBLANK(U15),"",V15-U15) | X15: =IF(ISBLANK(A15),"",IF(ISBLANK(S15),"0",calcoli!W12)) | Y15: =IF(ISBLANK(A15),"",I15+K15+M15+O15+Q15+X15)
G16: =IF(ISBLANK(F16),"",DATEDIF(F16,calcoli!Y$3,"Y")) | I16: =IF(ISBLANK(A16),"0",IF(ISBLANK(H16),"0",calcoli!C13))-calcoli!H13 -> 0 | K16: =IF(ISBLANK(A16),"",IF(ISBLANK(J16),"0",calcoli!K13)) | M16: =IF(ISBLANK(A16),"",IF(ISBLANK(L16),"0",calcoli!N13)) | O16: =IF(ISBLANK(A16),"",IF(ISBLANK(N16),"0",calcoli!Q13)) | Q16: =IF(ISBLANK(A16),"",IF(ISBLANK(P16),"0",calcoli!T13)) | W16: =IF(ISBLANK(U16),"",V16-U16) | X16: =IF(ISBLANK(A16),"",IF(ISBLANK(S16),"0",calcoli!W13)) | Y16: =IF(ISBLANK(A16),"",I16+K16+M16+O16+Q16+X16)
G17: =IF(ISBLANK(F17),"",DATEDIF(F17,calcoli!Y$3,"Y")) | I17: =IF(ISBLANK(A17),"0",IF(ISBLANK(H17),"0",calcoli!C14))-calcoli!H14 -> 0 | K17: =IF(ISBLANK(A17),"",IF(ISBLANK(J17),"0",calcoli!K14)) | M17: =IF(ISBLANK(A17),"",IF(ISBLANK(L17),"0",calcoli!N14)) | O17: =IF(ISBLANK(A17),"",IF(ISBLANK(N17),"0",calcoli!Q14)) | Q17: =IF(ISBLANK(A17),"",IF(ISBLANK(P17),"0",calcoli!T14)) | W17: =IF(ISBLANK(U17),"",V17-U17) | X17: =IF(ISBLANK(A17),"",IF(ISBLANK(S17),"0",calcoli!W14)) | Y17: =IF(ISBLANK(A17),"",I17+K17+M17+O17+Q17+X17)
... G53: =IF(ISBLANK(F53),"",DATEDIF(F53,calcoli!Y$3,"Y")) | I53: =IF(ISBLANK(A53),"0",IF(ISBLANK(H53),"0",calcoli!C50))-calcoli!H50 -> 0 | K53: =IF(ISBLANK(A53),"",IF(ISBLANK(J53),"0",calcoli!K50)) | M53: =IF(ISBLANK(A53),"",IF(ISBLANK(L53),"0",calcoli!N50)) | O53: =IF(ISBLANK(A53),"",IF(ISBLANK(N53),"0",calcoli!Q50)) | Q53: =IF(ISBLANK(A53),"",IF(ISBLANK(P53),"0",calcoli!T50)) | W53: =IF(ISBLANK(U53),"",V53-U53) | X53: =IF(ISBLANK(A53),"",IF(ISBLANK(S53),"0",calcoli!W50)) | Y53: =IF(ISBLANK(A53),"",I53+K53+M53+O53+Q53+X53)
I54: =SUM(I6:I53) -> 0 | K54: =SUM(K6:K53) -> 0 | M54: =SUM(M6:M53) -> 0 | O54: =SUM(O6:O53) -> 0 | Q54: =SUM(Q6:Q53) -> 0 | X54: =SUM(X6:X53) -> 0 | Y54: =SUM(Y6:Y53) -> 0

Sheet allergie
A1: ALLERGIE VARIE
A2: Allergia ai molluschi
A3: Allergia al grano
A4: Allergia al latte
A5: Allergia al pesce
A6: Allergia alla soia
A7: Allergia alle arachidi
A8: Allergia alle uova
A9: Allergia elle noci
A10: Sono Celiaco
A11: Sono Vegano
A12: Sono Vegetariano
A13: Altro

Sheet discipline
A1: DISCIPLINA
A2: Altro
A3: Brazilian Jujutsu
A4: Hashita
A5: Judo
A6: Jujutsu
A7: Jujutsu WJJKO
A8: Kajukembo
A9: Karate
A10: Karate Sportivo
A11: Koden Eshin Ryu-GSB-Ha
A12: Kokorozashi
... A26: Yawara Goshin-Ryu Karate

Sheet calcoli
A2: STAGE | D2: DOCENTI | E2: ASSISTENTI | F2: DIRIGENTI YKKF | H2: 0.2 | I2: CENA VENERDI | L2: PRANZO SABATO | O2: CENA SABATO | R2: PRANZO DOMENICA | U2: HOTEL
B3: 20 | C3: =IF(ISBLANK(Foglio1!H6),"0",VLOOKUP(Foglio1!H6,A3:B34,2,FALSE))*(D3*E3)+$Z$4 -> 0 | D3: =IF(Foglio1!B6<>A5,1,0) -> 1 | E3: =IF(Foglio1!B6<>$A$6,1,0) -> 1 | F3: =IF(Foglio1!B6<>A10,0,1) -> 1 | G3: =IF(Foglio1!B6<>A10,0,1) -> 1 | H3: =SUM(C3*H2)*G3 -> 0 | I3: Menù pizza | J3: 25 | K3: =IF(ISBLANK(Foglio1!J6),"0",VLOOKUP(Foglio1!J6,$I$3:$J$4,2,FALSE))*(D3*E3) -> 0 | L3: Cauzione | M3: 20 | N3: =IF(ISBLANK(Foglio1!L6),"0",VLOOKUP(Foglio1!L6,$L$3:$M$4,2,FALSE))*(D3*E3) -> 0 | O3: Menù pizza | P3: 25 | Q3: =IF(ISBLANK(Foglio1!N6),"0",VLOOKUP(Foglio1!N6,$O$3:$P$4,2,FALSE))*(D3*E3) -> 0 | R3: Menù pizza | S3: 25 | T3: =IF(ISBLANK(Foglio1!P6),"0",VLOOKUP(Foglio1!P6,$R$3:$S$4,2,FALSE))*(D3*E3) -> 0 | U3: Singola | V3: 40 | W3: =IF(ISBLANK(Foglio1!S6),"0",VLOOKUP(Foglio1!S6,$U$3:$V$10,2,FALSE))*(D3*E3)*Foglio1!W6 -> #VALUE! | Y3: 45758
B4: 0 | C4: =IF(ISBLANK(Foglio1!H7),"0",VLOOKUP(Foglio1!H7,A4:B35,2,FALSE))*(D4*E4)+$Z$4 -> 0 | D4: =IF(Foglio1!B7<>A5,1,0) -> 1 | E4: =IF(Foglio1!B7<>$A$6,1,0) -> 1 | F4: =IF(Foglio1!B7<>A10,0,1) -> 1 | G4: =IF(Foglio1!B7<>A10,0,1) -> 1 | H4: =SUM(C4*H2)*G4 -> 0 | I4: Menù cucina | J4: 40 | K4: =IF(ISBLANK(Foglio1!J7),"0",VLOOKUP(Foglio1!J7,$I$3:$J$4,2,FALSE))*(D4*E4) -> 0 | L4: Pesce | M4: 35 | N4: =IF(ISBLANK(Foglio1!L7),"0",VLOOKUP(Foglio1!L7,$L$3:$M$4,2,FALSE))*(D4*E4) -> 0 | O4: Menù cucina | P4: 45 | Q4: =IF(ISBLANK(Foglio1!N7),"0",VLOOKUP(Foglio1!N7,$O$3:$P$4,2,FALSE))*(D4*E4) -> 0 | R4: Menù cucina | S4: 45 | T4: =IF(ISBLANK(Foglio1!P7),"0",VLOOKUP(Foglio1!P7,$R$3:$S$4,2,FALSE))*(D4*E4) -> 0 | U4: Doppia | V4: 68 | W4: =IF(ISBLANK(Foglio1!S7),"0",VLOOKUP(Foglio1!S7,$U$3:$V$10,2,FALSE))*(D4*E4)*Foglio1!W7 -> #VALUE! | Y4: =IF(Y3<Foglio1!U4,"10") -> FALSE | Z4: =Y4*1 -> 0
A5: Docente | B5: 0 | C5: =IF(ISBLANK(Foglio1!H8),"0",VLOOKUP(Foglio1!H8,A5:B36,2,FALSE))*(D5*E5)+$Z$4 -> 0 | D5: =IF(Foglio1!B8<>A5,1,0) -> 1 | E5: =IF(Foglio1!B8<>$A$6,1,0) -> 1 | F5: =IF(Foglio1!B8<>A10,0,1) -> 1 | G5: =IF(Foglio1!B8<>A10,0,1) -> 1 | H5: =SUM(C5*H2)*G5 -> 0 | K5: =IF(ISBLANK(Foglio1!J8),"0",VLOOKUP(Foglio1!J8,$I$3:$J$4,2,FALSE))*(D5*E5) -> 0 | N5: =IF(ISBLANK(Foglio1!L8),"0",VLOOKUP(Foglio1!L8,$L$3:$M$4,2,FALSE))*(D5*E5) -> 0 | Q5: =IF(ISBLANK(Foglio1!N8),"0",VLOOKUP(Foglio1!N8,$O$3:$P$4,2,FALSE))*(D5*E5) -> 0 | T5: =IF(ISBLANK(Foglio1!P8),"0",VLOOKUP(Foglio1!P8,$R$3:$S$4,2,FALSE))*(D5*E5) -> 0 | U5: Matrimoniale | V5: 68 | W5: =IF(ISBLANK(Foglio1!S8),"0",VLOOKUP(Foglio1!S8,$U$3:$V$10,2,FALSE))*(D5*E5)*Foglio1!W8 -> #VALUE!
A6: Assistente | B6: 0 | C6: =IF(ISBLANK(Foglio1!H9),"0",VLOOKUP(Foglio1!H9,A6:B37,2,FALSE))*(D6*E6)+$Z$4 -> 0 | D6: =IF(Foglio1!B9<>A5,1,0) -> 1 | E6: =IF(Foglio1!B9<>$A$6,1,0) -> 1 | F6: =IF(Foglio1!B9<>A10,0,1) -> 1 | G6: =IF(Foglio1!B9<>A10,0,1) -> 1 | H6: =SUM(C6*H2)*G6 -> 0 | K6: =IF(ISBLANK(Foglio1!J9),"0",VLOOKUP(Foglio1!J9,$I$3:$J$4,2,FALSE))*(D6*E6) -> 0 | N6: =IF(ISBLANK(Foglio1!L9),"0",VLOOKUP(Foglio1!L9,$L$3:$M$4,2,FALSE))*(D6*E6) -> 0 | Q6: =IF(ISBLANK(Foglio1!N9),"0",VLOOKUP(Foglio1!N9,$O$3:$P$4,2,FALSE))*(D6*E6) -> 0 | T6: =IF(ISBLANK(Foglio1!P9),"0",VLOOKUP(Foglio1!P9,$R$3:$S$4,2,FALSE))*(D6*E6) -> 0 | U6: Tripla | V6: 76 | W6: =IF(ISBLANK(Foglio1!S9),"0",VLOOKUP(Foglio1!S9,$U$3:$V$10,2,FALSE))*(D6*E6)*Foglio1!W9 -> #VALUE!
A7: Mudansha | B7: 0 | C7: =IF(ISBLANK(Foglio1!H10),"0",VLOOKUP(Foglio1!H10,A7:B38,2,FALSE))*(D7*E7)+$Z$4 -> 0 | D7: =IF(Foglio1!B10<>A5,1,0) -> 1 | E7: =IF(Foglio1!B10<>$A$6,1,0) -> 1 | F7: =IF(Foglio1!B10<>A10,0,1) -> 1 | G7: =IF(Foglio1!B10<>A10,0,1) -> 1 | H7: =SUM(C7*H2)*G7 -> 0 | K7: =IF(ISBLANK(Foglio1!J10),"0",VLOOKUP(Foglio1!J10,$I$3:$J$4,2,FALSE))*(D7*E7) -> 0 | N7: =IF(ISBLANK(Foglio1!L10),"0",VLOOKUP(Foglio1!L10,$L$3:$M$4,2,FALSE))*(D7*E7) -> 0 | Q7: =IF(ISBLANK(Foglio1!N10),"0",VLOOKUP(Foglio1!N10,$O$3:$P$4,2,FALSE))*(D7*E7) -> 0 | T7: =IF(ISBLANK(Foglio1!P10),"0",VLOOKUP(Foglio1!P10,$R$3:$S$4,2,FALSE))*(D7*E7) -> 0 | U7: Quadrupla | V7: 84 | W7: =IF(ISBLANK(Foglio1!S10),"0",VLOOKUP(Foglio1!S10,$U$3:$V$10,2,FALSE))*(D7*E7)*Foglio1!W10 -> #VALUE!
A8: Yudansha | C8: =IF(ISBLANK(Foglio1!H11),"0",VLOOKUP(Foglio1!H11,A8:B39,2,FALSE))*(D8*E8)+$Z$4 -> 0 | D8: =IF(Foglio1!B11<>A5,1,0) -> 1 | E8: =IF(Foglio1!B11<>$A$6,1,0) -> 1 | F8: =IF(Foglio1!B11<>A10,0,1) -> 1 | G8: =IF(Foglio1!B11<>A10,0,1) -> 1 | H8: =SUM(C8*H2)*G8 -> 0 | K8: =IF(ISBLANK(Foglio1!J11),"0",VLOOKUP(Foglio1!J11,$I$3:$J$4,2,FALSE))*(D8*E8) -> 0 | N8: =IF(ISBLANK(Foglio1!L11),"0",VLOOKUP(Foglio1!L11,$L$3:$M$4,2,FALSE))*(D8*E8) -> 0 | Q8: =IF(ISBLANK(Foglio1!N11),"0",VLOOKUP(Foglio1!N11,$O$3:$P$4,2,FALSE))*(D8*E8) -> 0 | T8: =IF(ISBLANK(Foglio1!P11),"0",VLOOKUP(Foglio1!P11,$R$3:$S$4,2,FALSE))*(D8*E8) -> 0 | U8: GIà assegnata | V8: 0 | W8: =IF(ISBLANK(Foglio1!S11),"0",VLOOKUP(Foglio1!S11,$U$3:$V$10,2,FALSE))*(D8*E8)*Foglio1!W11 -> #VALUE!
A9: Kodansha | C9: =IF(ISBLANK(Foglio1!H12),"0",VLOOKUP(Foglio1!H12,A9:B40,2,FALSE))*(D9*E9)+$Z$4 -> 0 | D9: =IF(Foglio1!B12<>A5,1,0) -> 1 | E9: =IF(Foglio1!B12<>$A$6,1,0) -> 1 | F9: =IF(Foglio1!B12<>A10,0,1) -> 1 | G9: =IF(Foglio1!B12<>A10,0,1) -> 1 | H9: =SUM(C9*H2)*G9 -> 0 | K9: =IF(ISBLANK(Foglio1!J12),"0",VLOOKUP(Foglio1!J12,$I$3:$J$4,2,FALSE))*(D9*E9) -> 0 | N9: =IF(ISBLANK(Foglio1!L12),"0",VLOOKUP(Foglio1!L12,$L$3:$M$4,2,FALSE))*(D9*E9) -> 0 | Q9: =IF(ISBLANK(Foglio1!N12),"0",VLOOKUP(Foglio1!N12,$O$3:$P$4,2,FALSE))*(D9*E9) -> 0 | T9: =IF(ISBLANK(Foglio1!P12),"0",VLOOKUP(Foglio1!P12,$R$3:$S$4,2,FALSE))*(D9*E9) -> 0 | W9: =IF(ISBLANK(Foglio1!S12),"0",VLOOKUP(Foglio1!S12,$U$3:$V$10,2,FALSE))*(D9*E9)*Foglio1!W12 -> #VALUE!
C10: =IF(ISBLANK(Foglio1!H13),"0",VLOOKUP(Foglio1!H13,A10:B41,2,FALSE))*(D10*E10)+$Z$4 -> 0 | D10: =IF(Foglio1!B13<>A5,1,0) -> 1 | E10: =IF(Foglio1!B13<>$A$6,1,0) -> 1 | F10: =IF(Foglio1!B13<>A10,0,1) -> 1 | G10: =IF(Foglio1!B13<>A10,0,1) -> 1 | H10: =SUM(C10*H2)*G10 -> 0 | K10: =IF(ISBLANK(Foglio1!J13),"0",VLOOKUP(Foglio1!J13,$I$3:$J$4,2,FALSE))*(D10*E10) -> 0 | N10: =IF(ISBLANK(Foglio1!L13),"0",VLOOKUP(Foglio1!L13,$L$3:$M$4,2,FALSE))*(D10*E10) -> 0 | Q10: =IF(ISBLANK(Foglio1!N13),"0",VLOOKUP(Foglio1!N13,$O$3:$P$4,2,FALSE))*(D10*E10) -> 0 | T10: =IF(ISBLANK(Foglio1!P13),"0",VLOOKUP(Foglio1!P13,$R$3:$S$4,2,FALSE))*(D10*E10) -> 0 | W10: =IF(ISBLANK(Foglio1!S13),"0",VLOOKUP(Foglio1!S13,$U$3:$V$10,2,FALSE))*(D10*E10)*Foglio1!W13 -> #VALUE!
A11: Accompagnatore | C11: =IF(ISBLANK(Foglio1!H14),"0",VLOOKUP(Foglio1!H14,A11:B42,2,FALSE))*(D11*E11)+$Z$4 -> 0 | D11: =IF(Foglio1!B14<>A5,1,0) -> 1 | E11: =IF(Foglio1!B14<>$A$6,1,0) -> 1 | F11: =IF(Foglio1!B14<>A10,0,1) -> 1 | G11: =IF(Foglio1!B14<>A10,0,1) -> 1 | H11: =SUM(C11*H2)*G11 -> 0 | K11: =IF(ISBLANK(Foglio1!J14),"0",VLOOKUP(Foglio1!J14,$I$3:$J$4,2,FALSE))*(D11*E11) -> 0 | N11: =IF(ISBLANK(Foglio1!L14),"0",VLOOKUP(Foglio1!L14,$L$3:$M$4,2,FALSE))*(D11*E11) -> 0 | Q11: =IF(ISBLANK(Foglio1!N14),"0",VLOOKUP(Foglio1!N14,$O$3:$P$4,2,FALSE))*(D11*E11) -> 0 | T11: =IF(ISBLANK(Foglio1!P14),"0",VLOOKUP(Foglio1!P14,$R$3:$S$4,2,FALSE))*(D11*E11) -> 0 | W11: =IF(ISBLANK(Foglio1!S14),"0",VLOOKUP(Foglio1!S14,$U$3:$V$10,2,FALSE))*(D11*E11)*Foglio1!W14 -> #VALUE!
A12: Under 12 Sa | B12: 25 | C12: =IF(ISBLANK(Foglio1!H15),"0",VLOOKUP(Foglio1!H15,A12:B43,2,FALSE))*(D12*E12)+$Z$4 -> 0 | D12: =IF(Foglio1!B15<>A5,1,0) -> 1 | E12: =IF(Foglio1!B15<>$A$6,1,0) -> 1 | F12: =IF(Foglio1!B15<>A10,0,1) -> 1 | G12: =IF(Foglio1!B15<>A10,0,1) -> 1 | H12: =SUM(C12*H2)*G12 -> 0 | K12: =IF(ISBLANK(Foglio1!J15),"0",VLOOKUP(Foglio1!J15,$I$3:$J$4,2,FALSE))*(D12*E12) -> 0 | N12: =IF(ISBLANK(Foglio1!L15),"0",VLOOKUP(Foglio1!L15,$L$3:$M$4,2,FALSE))*(D12*E12) -> 0 | Q12: =IF(ISBLANK(Foglio1!N15),"0",VLOOKUP(Foglio1!N15,$O$3:$P$4,2,FALSE))*(D12*E12) -> 0 | T12: =IF(ISBLANK(Foglio1!P15),"0",VLOOKUP(Foglio1!P15,$R$3:$S$4,2,FALSE))*(D12*E12) -> 0 | W12: =IF(ISBLANK(Foglio1!S15),"0",VLOOKUP(Foglio1!S15,$U$3:$V$10,2,FALSE))*(D12*E12)*Foglio1!W15 -> #VALUE!
A13: Under 12 Do | B13: 20 | C13: =IF(ISBLANK(Foglio1!H16),"0",VLOOKUP(Foglio1!H16,A13:B44,2,FALSE))*(D13*E13)+$Z$4 -> 0 | D13: =IF(Foglio1!B16<>A5,1,0) -> 1 | E13: =IF(Foglio1!B16<>$A$6,1,0) -> 1 | F13: =IF(Foglio1!B16<>A10,0,1) -> 1 | G13: =IF(Foglio1!B16<>A10,0,1) -> 1 | H13: =SUM(C13*H2)*G13 -> 0 | K13: =IF(ISBLANK(Foglio1!J16),"0",VLOOKUP(Foglio1!J16,$I$3:$J$4,2,FALSE))*(D13*E13) -> 0 | N13: =IF(ISBLANK(Foglio1!L16),"0",VLOOKUP(Foglio1!L16,$L$3:$M$4,2,FALSE))*(D13*E13) -> 0 | Q13: =IF(ISBLANK(Foglio1!N16),"0",VLOOKUP(Foglio1!N16,$O$3:$P$4,2,FALSE))*(D13*E13) -> 0 | T13: =IF(ISBLANK(Foglio1!P16),"0",VLOOKUP(Foglio1!P16,$R$3:$S$4,2,FALSE))*(D13*E13) -> 0 | W13: =IF(ISBLANK(Foglio1!S16),"0",VLOOKUP(Foglio1!S16,$U$3:$V$10,2,FALSE))*(D13*E13)*Foglio1!W16 -> #VALUE!
A14: Under 12 Sa-Do | B14: 30 | C14: =IF(ISBLANK(Foglio1!H17),"0",VLOOKUP(Foglio1!H17,A14:B45,2,FALSE))*(D14*E14)+$Z$4 -> 0 | D14: =IF(Foglio1!B17<>A5,1,0) -> 1 | E14: =IF(Foglio1!B17<>$A$6,1,0) -> 1 | F14: =IF(Foglio1!B17<>A10,0,1) -> 1 | G14: =IF(Foglio1!B17<>A10,0,1) -> 1 | H14: =SUM(C14*H2)*G14 -> 0 | K14: =IF(ISBLANK(Foglio1!J17),"0",VLOOKUP(Foglio1!J17,$I$3:$J$4,2,FALSE))*(D14*E14) -> 0 | N14: =IF(ISBLANK(Foglio1!L17),"0",VLOOKUP(Foglio1!L17,$L$3:$M$4,2,FALSE))*(D14*E14) -> 0 | Q14: =IF(ISBLANK(Foglio1!N17),"0",VLOOKUP(Foglio1!N17,$O$3:$P$4,2,FALSE))*(D14*E14) -> 0 | T14: =IF(ISBLANK(Foglio1!P17),"0",VLOOKUP(Foglio1!P17,$R$3:$S$4,2,FALSE))*(D14*E14) -> 0 | W14: =IF(ISBLANK(Foglio1!S17),"0",VLOOKUP(Foglio1!S17,$U$3:$V$10,2,FALSE))*(D14*E14)*Foglio1!W17 -> #VALUE!
A15: Over 11 Ve | B15: 40 | C15: =IF(ISBLANK(Foglio1!H18),"0",VLOOKUP(Foglio1!H18,A15:B46,2,FALSE))*(D15*E15)+$Z$4 -> 0 | D15: =IF(Foglio1!B18<>A5,1,0) -> 1 | E15: =IF(Foglio1!B18<>$A$6,1,0) -> 1 | F15: =IF(Foglio1!B18<>A10,0,1) -> 1 | G15: =IF(Foglio1!B18<>A10,0,1) -> 1 | H15: =SUM(C15*H2)*G15 -> 0 | K15: =IF(ISBLANK(Foglio1!J18),"0",VLOOKUP(Foglio1!J18,$I$3:$J$4,2,FALSE))*(D15*E15) -> 0 | N15: =IF(ISBLANK(Foglio1!L18),"0",VLOOKUP(Foglio1!L18,$L$3:$M$4,2,FALSE))*(D15*E15) -> 0 | Q15: =IF(ISBLANK(Foglio1!N18),"0",VLOOKUP(Foglio1!N18,$O$3:$P$4,2,FALSE))*(D15*E15) -> 0 | T15: =IF(ISBLANK(Foglio1!P18),"0",VLOOKUP(Foglio1!P18,$R$3:$S$4,2,FALSE))*(D15*E15) -> 0 | W15: =IF(ISBLANK(Foglio1!S18),"0",VLOOKUP(Foglio1!S18,$U$3:$V$10,2,FALSE))*(D15*E15)*Foglio1!W18 -> #VALUE!
A16: Over 11 Sa | B16: 35 | C16: =IF(ISBLANK(Foglio1!H19),"0",VLOOKUP(Foglio1!H19,A16:B47,2,FALSE))*(D16*E16)+$Z$4 -> 0 | D16: =IF(Foglio1!B19<>A5,1,0) -> 1 | E16: =IF(Foglio1!B19<>$A$6,1,0) -> 1 | F16: =IF(Foglio1!B19<>A10,0,1) -> 1 | G16: =IF(Foglio1!B19<>A10,0,1) -> 1 | H16: =SUM(C16*H2)*G16 -> 0 | K16: =IF(ISBLANK(Foglio1!J19),"0",VLOOKUP(Foglio1!J19,$I$3:$J$4,2,FALSE))*(D16*E16) -> 0 | N16: =IF(ISBLANK(Foglio1!L19),"0",VLOOKUP(Foglio1!L19,$L$3:$M$4,2,FALSE))*(D16*E16) -> 0 | Q16: =IF(ISBLANK(Foglio1!N19),"0",VLOOKUP(Foglio1!N19,$O$3:$P$4,2,FALSE))*(D16*E16) -> 0 | T16: =IF(ISBLANK(Foglio1!P19),"0",VLOOKUP(Foglio1!P19,$R$3:$S$4,2,FALSE))*(D16*E16) -> 0 | W16: =IF(ISBLANK(Foglio1!S19),"0",VLOOKUP(Foglio1!S19,$U$3:$V$10,2,FALSE))*(D16*E16)*Foglio1!W19 -> #VALUE!
A17: Over 11 Do | B17: 30 | C17: =IF(ISBLANK(Foglio1!H20),"0",VLOOKUP(Foglio1!H20,A17:B48,2,FALSE))*(D17*E17)+$Z$4 -> 0 | D17: =IF(Foglio1!B20<>A5,1,0) -> 1 | E17: =IF(Foglio1!B20<>$A$6,1,0) -> 1 | F17: =IF(Foglio1!B20<>A10,0,1) -> 1 | G17: =IF(Foglio1!B20<>A10,0,1) -> 1 | H17: =SUM(C17*H2)*G17 -> 0 | K17: =IF(ISBLANK(Foglio1!J20),"0",VLOOKUP(Foglio1!J20,$I$3:$J$4,2,FALSE))*(D17*E17) -> 0 | N17: =IF(ISBLANK(Foglio1!L20),"0",VLOOKUP(Foglio1!L20,$L$3:$M$4,2,FALSE))*(D17*E17) -> 0 | Q17: =IF(ISBLANK(Foglio1!N20),"0",VLOOKUP(Foglio1!N20,$O$3:$P$4,2,FALSE))*(D17*E17) -> 0 | T17: =IF(ISBLANK(Foglio1!P20),"0",VLOOKUP(Foglio1!P20,$R$3:$S$4,2,FALSE))*(D17*E17) -> 0 | W17: =IF(ISBLANK(Foglio1!S20),"0",VLOOKUP(Foglio1!S20,$U$3:$V$10,2,FALSE))*(D17*E17)*Foglio1!W20 -> #VALUE!
A18: Over 11 Sa-Do | B18: 45 | C18: =IF(ISBLANK(Foglio1!H21),"0",VLOOKUP(Foglio1!H21,A18:B49,2,FALSE))*(D18*E18)+$Z$4 -> 0 | D18: =IF(Foglio1!B21<>A5,1,0) -> 1 | E18: =IF(Foglio1!B21<>$A$6,1,0) -> 1 | F18: =IF(Foglio1!B21<>A10,0,1) -> 1 | G18: =IF(Foglio1!B21<>A10,0,1) -> 1 | H18: =SUM(C18*H2)*G18 -> 0 | K18: =IF(ISBLANK(Foglio1!J21),"0",VLOOKUP(Foglio1!J21,$I$3:$J$4,2,FALSE))*(D18*E18) -> 0 | N18: =IF(ISBLANK(Foglio1!L21),"0",VLOOKUP(Foglio1!L21,$L$3:$M$4,2,FALSE))*(D18*E18) -> 0 | Q18: =IF(ISBLANK(Foglio1!N21),"0",VLOOKUP(Foglio1!N21,$O$3:$P$4,2,FALSE))*(D18*E18) -> 0 | T18: =IF(ISBLANK(Foglio1!P21),"0",VLOOKUP(Foglio1!P21,$R$3:$S$4,2,FALSE))*(D18*E18) -> 0 | W18: =IF(ISBLANK(Foglio1!S21),"0",VLOOKUP(Foglio1!S21,$U$3:$V$10,2,FALSE))*(D18*E18)*Foglio1!W21 -> #VALUE!
A19: Over 11 Ve-Sa-Do | B19: 50 | C19: =IF(ISBLANK(Foglio1!H22),"0",VLOOKUP(Foglio1!H22,A19:B50,2,FALSE))*(D19*E19)+$Z$4 -> 0 | D19: =IF(Foglio1!B22<>A5,1,0) -> 1 | E19: =IF(Foglio1!B22<>$A$6,1,0) -> 1 | F19: =IF(Foglio1!B22<>A10,0,1) -> 1 | G19: =IF(Foglio1!B22<>A10,0,1) -> 1 | H19: =SUM(C19*H2)*G19 -> 0 | K19: =IF(ISBLANK(Foglio1!J22),"0",VLOOKUP(Foglio1!J22,$I$3:$J$4,2,FALSE))*(D19*E19) -> 0 | N19: =IF(ISBLANK(Foglio1!L22),"0",VLOOKUP(Foglio1!L22,$L$3:$M$4,2,FALSE))*(D19*E19) -> 0 | Q19: =IF(ISBLANK(Foglio1!N22),"0",VLOOKUP(Foglio1!N22,$O$3:$P$4,2,FALSE))*(D19*E19) -> 0 | T19: =IF(ISBLANK(Foglio1!P22),"0",VLOOKUP(Foglio1!P22,$R$3:$S$4,2,FALSE))*(D19*E19) -> 0 | W19: =IF(ISBLANK(Foglio1!S22),"0",VLOOKUP(Foglio1!S22,$U$3:$V$10,2,FALSE))*(D19*E19)*Foglio1!W22 -> #VALUE!
B20: 60 | C20: =IF(ISBLANK(Foglio1!H23),"0",VLOOKUP(Foglio1!H23,A20:B51,2,FALSE))*(D20*E20)+$Z$4 -> 0 | D20: =IF(Foglio1!B23<>A5,1,0) -> 1 | E20: =IF(Foglio1!B23<>$A$6,1,0) -> 1 | F20: =IF(Foglio1!B23<>A10,0,1) -> 1 | G20: =IF(Foglio1!B23<>A10,0,1) -> 1 | H20: =SUM(C20*H2)*G20 -> 0 | K20: =IF(ISBLANK(Foglio1!J23),"0",VLOOKUP(Foglio1!J23,$I$3:$J$4,2,FALSE))*(D20*E20) -> 0 | N20: =IF(ISBLANK(Foglio1!L23),"0",VLOOKUP(Foglio1!L23,$L$3:$M$4,2,FALSE))*(D20*E20) -> 0 | Q20: =IF(ISBLANK(Foglio1!N23),"0",VLOOKUP(Foglio1!N23,$O$3:$P$4,2,FALSE))*(D20*E20) -> 0 | T20: =IF(ISBLANK(Foglio1!P23),"0",VLOOKUP(Foglio1!P23,$R$3:$S$4,2,FALSE))*(D20*E20) -> 0 | W20: =IF(ISBLANK(Foglio1!S23),"0",VLOOKUP(Foglio1!S23,$U$3:$V$10,2,FALSE))*(D20*E20)*Foglio1!W23 -> #VALUE!
B21: 55 | C21: =IF(ISBLANK(Foglio1!H24),"0",VLOOKUP(Foglio1!H24,A21:B52,2,FALSE))*(D21*E21)+$Z$4 -> 0 | D21: =IF(Foglio1!B24<>A5,1,0) -> 1 | E21: =IF(Foglio1!B24<>$A$6,1,0) -> 1 | F21: =IF(Foglio1!B24<>A10,0,1) -> 1 | G21: =IF(Foglio1!B24<>A10,0,1) -> 1 | H21: =SUM(C21*H2)*G21 -> 0 | K21: =IF(ISBLANK(Foglio1!J24),"0",VLOOKUP(Foglio1!J24,$I$3:$J$4,2,FALSE))*(D21*E21) -> 0 | N21: =IF(ISBLANK(Foglio1!L24),"0",VLOOKUP(Foglio1!L24,$L$3:$M$4,2,FALSE))*(D21*E21) -> 0 | Q21: =IF(ISBLANK(Foglio1!N24),"0",VLOOKUP(Foglio1!N24,$O$3:$P$4,2,FALSE))*(D21*E21) -> 0 | T21: =IF(ISBLANK(Foglio1!P24),"0",VLOOKUP(Foglio1!P24,$R$3:$S$4,2,FALSE))*(D21*E21) -> 0 | W21: =IF(ISBLANK(Foglio1!S24),"0",VLOOKUP(Foglio1!S24,$U$3:$V$10,2,FALSE))*(D21*E21)*Foglio1!W24 -> #VALUE!
B22: 45 | C22: =IF(ISBLANK(Foglio1!H25),"0",VLOOKUP(Foglio1!H25,A22:B53,2,FALSE))*(D22*E22)+$Z$4 -> 0 | D22: =IF(Foglio1!B25<>A5,1,0) -> 1 | E22: =IF(Foglio1!B25<>$A$6,1,0) -> 1 | F22: =IF(Foglio1!B25<>A10,0,1) -> 1 | G22: =IF(Foglio1!B25<>A10,0,1) -> 1 | H22: =SUM(C22*H2)*G22 -> 0 | K22: =IF(ISBLANK(Foglio1!J25),"0",VLOOKUP(Foglio1!J25,$I$3:$J$4,2,FALSE))*(D22*E22) -> 0 | N22: =IF(ISBLANK(Foglio1!L25),"0",VLOOKUP(Foglio1!L25,$L$3:$M$4,2,FALSE))*(D22*E22) -> 0 | Q22: =IF(ISBLANK(Foglio1!N25),"0",VLOOKUP(Foglio1!N25,$O$3:$P$4,2,FALSE))*(D22*E22) -> 0 | T22: =IF(ISBLANK(Foglio1!P25),"0",VLOOKUP(Foglio1!P25,$R$3:$S$4,2,FALSE))*(D22*E22) -> 0 | W22: =IF(ISBLANK(Foglio1!S25),"0",VLOOKUP(Foglio1!S25,$U$3:$V$10,2,FALSE))*(D22*E22)*Foglio1!W25 -> #VALUE!
B23: 70 | C23: =IF(ISBLANK(Foglio1!H26),"0",VLOOKUP(Foglio1!H26,A23:B54,2,FALSE))*(D23*E23)+$Z$4 -> 0 | D23: =IF(Foglio1!B26<>A5,1,0) -> 1 | E23: =IF(Foglio1!B26<>$A$6,1,0) -> 1 | F23: =IF(Foglio1!B26<>A10,0,1) -> 1 | G23: =IF(Foglio1!B26<>A10,0,1) -> 1 | H23: =SUM(C23*H2)*G23 -> 0 | K23: =IF(ISBLANK(Foglio1!J26),"0",VLOOKUP(Foglio1!J26,$I$3:$J$4,2,FALSE))*(D23*E23) -> 0 | N23: =IF(ISBLANK(Foglio1!L26),"0",VLOOKUP(Foglio1!L26,$L$3:$M$4,2,FALSE))*(D23*E23) -> 0 | Q23: =IF(ISBLANK(Foglio1!N26),"0",VLOOKUP(Foglio1!N26,$O$3:$P$4,2,FALSE))*(D23*E23) -> 0 | T23: =IF(ISBLANK(Foglio1!P26),"0",VLOOKUP(Foglio1!P26,$R$3:$S$4,2,FALSE))*(D23*E23) -> 0 | W23: =IF(ISBLANK(Foglio1!S26),"0",VLOOKUP(Foglio1!S26,$U$3:$V$10,2,FALSE))*(D23*E23)*Foglio1!W26 -> #VALUE!
B24: 85 | C24: =IF(ISBLANK(Foglio1!H27),"0",VLOOKUP(Foglio1!H27,A24:B55,2,FALSE))*(D24*E24)+$Z$4 -> 0 | D24: =IF(Foglio1!B27<>A5,1,0) -> 1 | E24: =IF(Foglio1!B27<>$A$6,1,0) -> 1 | F24: =IF(Foglio1!B27<>A10,0,1) -> 1 | G24: =IF(Foglio1!B27<>A10,0,1) -> 1 | H24: =SUM(C24*H2)*G24 -> 0 | K24: =IF(ISBLANK(Foglio1!J27),"0",VLOOKUP(Foglio1!J27,$I$3:$J$4,2,FALSE))*(D24*E24) -> 0 | N24: =IF(ISBLANK(Foglio1!L27),"0",VLOOKUP(Foglio1!L27,$L$3:$M$4,2,FALSE))*(D24*E24) -> 0 | Q24: =IF(ISBLANK(Foglio1!N27),"0",VLOOKUP(Foglio1!N27,$O$3:$P$4,2,FALSE))*(D24*E24) -> 0 | T24: =IF(ISBLANK(Foglio1!P27),"0",VLOOKUP(Foglio1!P27,$R$3:$S$4,2,FALSE))*(D24*E24) -> 0 | W24: =IF(ISBLANK(Foglio1!S27),"0",VLOOKUP(Foglio1!S27,$U$3:$V$10,2,FALSE))*(D24*E24)*Foglio1!W27 -> #VALUE!
B25: 60 | C25: =IF(ISBLANK(Foglio1!H28),"0",VLOOKUP(Foglio1!H28,A25:B56,2,FALSE))*(D25*E25)+$Z$4 -> 0 | D25: =IF(Foglio1!B28<>A5,1,0) -> 1 | E25: =IF(Foglio1!B28<>$A$6,1,0) -> 1 | F25: =IF(Foglio1!B28<>A10,0,1) -> 1 | G25: =IF(Foglio1!B28<>A10,0,1) -> 1 | H25: =SUM(C25*H2)*G25 -> 0 | K25: =IF(ISBLANK(Foglio1!J28),"0",VLOOKUP(Foglio1!J28,$I$3:$J$4,2,FALSE))*(D25*E25) -> 0 | N25: =IF(ISBLANK(Foglio1!L28),"0",VLOOKUP(Foglio1!L28,$L$3:$M$4,2,FALSE))*(D25*E25) -> 0 | Q25: =IF(ISBLANK(Foglio1!N28),"0",VLOOKUP(Foglio1!N28,$O$3:$P$4,2,FALSE))*(D25*E25) -> 0 | T25: =IF(ISBLANK(Foglio1!P28),"0",VLOOKUP(Foglio1!P28,$R$3:$S$4,2,FALSE))*(D25*E25) -> 0 | W25: =IF(ISBLANK(Foglio1!S28),"0",VLOOKUP(Foglio1!S28,$U$3:$V$10,2,FALSE))*(D25*E25)*Foglio1!W28 -> #VALUE!
B26: 55 | C26: =IF(ISBLANK(Foglio1!H29),"0",VLOOKUP(Foglio1!H29,A26:B57,2,FALSE))*(D26*E26)+$Z$4 -> 0 | D26: =IF(Foglio1!B29<>A5,1,0) -> 1 | E26: =IF(Foglio1!B29<>$A$6,1,0) -> 1 | F26: =IF(Foglio1!B29<>A10,0,1) -> 1 | G26: =IF(Foglio1!B29<>A10,0,1) -> 1 | H26: =SUM(C26*H2)*G26 -> 0 | K26: =IF(ISBLANK(Foglio1!J29),"0",VLOOKUP(Foglio1!J29,$I$3:$J$4,2,FALSE))*(D26*E26) -> 0 | N26: =IF(ISBLANK(Foglio1!L29),"0",VLOOKUP(Foglio1!L29,$L$3:$M$4,2,FALSE))*(D26*E26) -> 0 | Q26: =IF(ISBLANK(Foglio1!N29),"0",VLOOKUP(Foglio1!N29,$O$3:$P$4,2,FALSE))*(D26*E26) -> 0 | T26: =IF(ISBLANK(Foglio1!P29),"0",VLOOKUP(Foglio1!P29,$R$3:$S$4,2,FALSE))*(D26*E26) -> 0 | W26: =IF(ISBLANK(Foglio1!S29),"0",VLOOKUP(Foglio1!S29,$U$3:$V$10,2,FALSE))*(D26*E26)*Foglio1!W29 -> #VALUE!
B27: 45 | C27: =IF(ISBLANK(Foglio1!H30),"0",VLOOKUP(Foglio1!H30,A27:B58,2,FALSE))*(D27*E27)+$Z$4 -> 0 | D27: =IF(Foglio1!B30<>A5,1,0) -> 1 | E27: =IF(Foglio1!B30<>$A$6,1,0) -> 1 | F27: =IF(Foglio1!B30<>A10,0,1) -> 1 | G27: =IF(Foglio1!B30<>A10,0,1) -> 1 | H27: =SUM(C27*H2)*G27 -> 0 | K27: =IF(ISBLANK(Foglio1!J30),"0",VLOOKUP(Foglio1!J30,$I$3:$J$4,2,FALSE))*(D27*E27) -> 0 | N27: =IF(ISBLANK(Foglio1!L30),"0",VLOOKUP(Foglio1!L30,$L$3:$M$4,2,FALSE))*(D27*E27) -> 0 | Q27: =IF(ISBLANK(Foglio1!N30),"0",VLOOKUP(Foglio1!N30,$O$3:$P$4,2,FALSE))*(D27*E27) -> 0 | T27: =IF(ISBLANK(Foglio1!P30),"0",VLOOKUP(Foglio1!P30,$R$3:$S$4,2,FALSE))*(D27*E27) -> 0 | W27: =IF(ISBLANK(Foglio1!S30),"0",VLOOKUP(Foglio1!S30,$U$3:$V$10,2,FALSE))*(D27*E27)*Foglio1!W30 -> #VALUE!
B28: 65 | C28: =IF(ISBLANK(Foglio1!H31),"0",VLOOKUP(Foglio1!H31,A28:B59,2,FALSE))*(D28*E28)+$Z$4 -> 0 | D28: =IF(Foglio1!B31<>A5,1,0) -> 1 | E28: =IF(Foglio1!B31<>$A$6,1,0) -> 1 | F28: =IF(Foglio1!B31<>A10,0,1) -> 1 | G28: =IF(Foglio1!B31<>A10,0,1) -> 1 | H28: =SUM(C28*H2)*G28 -> 0 | K28: =IF(ISBLANK(Foglio1!J31),"0",VLOOKUP(Foglio1!J31,$I$3:$J$4,2,FALSE))*(D28*E28) -> 0 | N28: =IF(ISBLANK(Foglio1!L31),"0",VLOOKUP(Foglio1!L31,$L$3:$M$4,2,FALSE))*(D28*E28) -> 0 | Q28: =IF(ISBLANK(Foglio1!N31),"0",VLOOKUP(Foglio1!N31,$O$3:$P$4,2,FALSE))*(D28*E28) -> 0 | T28: =IF(ISBLANK(Foglio1!P31),"0",VLOOKUP(Foglio1!P31,$R$3:$S$4,2,FALSE))*(D28*E28) -> 0 | W28: =IF(ISBLANK(Foglio1!S31),"0",VLOOKUP(Foglio1!S31,$U$3:$V$10,2,FALSE))*(D28*E28)*Foglio1!W31 -> #VALUE!
B29: 75 | C29: =IF(ISBLANK(Foglio1!H32),"0",VLOOKUP(Foglio1!H32,A29:B60,2,FALSE))*(D29*E29)+$Z$4 -> 0 | D29: =IF(Foglio1!B32<>A5,1,0) -> 1 | E29: =IF(Foglio1!B32<>$A$6,1,0) -> 1 | F29: =IF(Foglio1!B32<>A10,0,1) -> 1 | G29: =IF(Foglio1!B32<>A10,0,1) -> 1 | H29: =SUM(C29*H2)*G29 -> 0 | K29: =IF(ISBLANK(Foglio1!J32),"0",VLOOKUP(Foglio1!J32,$I$3:$J$4,2,FALSE))*(D29*E29) -> 0 | N29: =IF(ISBLANK(Foglio1!L32),"0",VLOOKUP(Foglio1!L32,$L$3:$M$4,2,FALSE))*(D29*E29) -> 0 | Q29: =IF(ISBLANK(Foglio1!N32),"0",VLOOKUP(Foglio1!N32,$O$3:$P$4,2,FALSE))*(D29*E29) -> 0 | T29: =IF(ISBLANK(Foglio1!P32),"0",VLOOKUP(Foglio1!P32,$R$3:$S$4,2,FALSE))*(D29*E29) -> 0 | W29: =IF(ISBLANK(Foglio1!S32),"0",VLOOKUP(Foglio1!S32,$U$3:$V$10,2,FALSE))*(D29*E29)*Foglio1!W32 -> #VALUE!
B30: 70 | C30: =IF(ISBLANK(Foglio1!H33),"0",VLOOKUP(Foglio1!H33,A30:B61,2,FALSE))*(D30*E30)+$Z$4 -> 0 | D30: =IF(Foglio1!B33<>A5,1,0) -> 1 | E30: =IF(Foglio1!B33<>$A$6,1,0) -> 1 | F30: =IF(Foglio1!B33<>A10,0,1) -> 1 | G30: =IF(Foglio1!B33<>A10,0,1) -> 1 | H30: =SUM(C30*H2)*G30 -> 0 | K30: =IF(ISBLANK(Foglio1!J33),"0",VLOOKUP(Foglio1!J33,$I$3:$J$4,2,FALSE))*(D30*E30) -> 0 | N30: =IF(ISBLANK(Foglio1!L33),"0",VLOOKUP(Foglio1!L33,$L$3:$M$4,2,FALSE))*(D30*E30) -> 0 | Q30: =IF(ISBLANK(Foglio1!N33),"0",VLOOKUP(Foglio1!N33,$O$3:$P$4,2,FALSE))*(D30*E30) -> 0 | T30: =IF(ISBLANK(Foglio1!P33),"0",VLOOKUP(Foglio1!P33,$R$3:$S$4,2,FALSE))*(D30*E30) -> 0 | W30: =IF(ISBLANK(Foglio1!S33),"0",VLOOKUP(Foglio1!S33,$U$3:$V$10,2,FALSE))*(D30*E30)*Foglio1!W33 -> #VALUE!
B31: 65 | C31: =IF(ISBLANK(Foglio1!H34),"0",VLOOKUP(Foglio1!H34,A31:B62,2,FALSE))*(D31*E31)+$Z$4 -> 0 | D31: =IF(Foglio1!B34<>A5,1,0) -> 1 | E31: =IF(Foglio1!B34<>$A$6,1,0) -> 1 | F31: =IF(Foglio1!B34<>A10,0,1) -> 1 | G31: =IF(Foglio1!B34<>A10,0,1) -> 1 | H31: =SUM(C31*H2)*G31 -> 0 | K31: =IF(ISBLANK(Foglio1!J34),"0",VLOOKUP(Foglio1!J34,$I$3:$J$4,2,FALSE))*(D31*E31) -> 0 | N31: =IF(ISBLANK(Foglio1!L34),"0",VLOOKUP(Foglio1!L34,$L$3:$M$4,2,FALSE))*(D31*E31) -> 0 | Q31: =IF(ISBLANK(Foglio1!N34),"0",VLOOKUP(Foglio1!N34,$O$3:$P$4,2,FALSE))*(D31*E31) -> 0 | T31: =IF(ISBLANK(Foglio1!P34),"0",VLOOKUP(Foglio1!P34,$R$3:$S$4,2,FALSE))*(D31*E31) -> 0 | W31: =IF(ISBLANK(Foglio1!S34),"0",VLOOKUP(Foglio1!S34,$U$3:$V$10,2,FALSE))*(D31*E31)*Foglio1!W34 -> #VALUE!
B32: 55 | C32: =IF(ISBLANK(Foglio1!H35),"0",VLOOKUP(Foglio1!H35,A32:B63,2,FALSE))*(D32*E32)+$Z$4 -> 0 | D32: =IF(Foglio1!B35<>A5,1,0) -> 1 | E32: =IF(Foglio1!B35<>$A$6,1,0) -> 1 | F32: =IF(Foglio1!B35<>A10,0,1) -> 1 | G32: =IF(Foglio1!B35<>A10,0,1) -> 1 | H32: =SUM(C32*H2)*G32 -> 0 | K32: =IF(ISBLANK(Foglio1!J35),"0",VLOOKUP(Foglio1!J35,$I$3:$J$4,2,FALSE))*(D32*E32) -> 0 | N32: =IF(ISBLANK(Foglio1!L35),"0",VLOOKUP(Foglio1!L35,$L$3:$M$4,2,FALSE))*(D32*E32) -> 0 | Q32: =IF(ISBLANK(Foglio1!N35),"0",VLOOKUP(Foglio1!N35,$O$3:$P$4,2,FALSE))*(D32*E32) -> 0 | T32: =IF(ISBLANK(Foglio1!P35),"0",VLOOKUP(Foglio1!P35,$R$3:$S$4,2,FALSE))*(D32*E32) -> 0 | W32: =IF(ISBLANK(Foglio1!S35),"0",VLOOKUP(Foglio1!S35,$U$3:$V$10,2,FALSE))*(D32*E32)*Foglio1!W35 -> #VALUE!
B33: 85 | C33: =IF(ISBLANK(Foglio1!H36),"0",VLOOKUP(Foglio1!H36,A33:B64,2,FALSE))*(D33*E33)+$Z$4 -> 0 | D33: =IF(Foglio1!B36<>A5,1,0) -> 1 | E33: =IF(Foglio1!B36<>$A$6,1,0) -> 1 | F33: =IF(Foglio1!B36<>A10,0,1) -> 1 | G33: =IF(Foglio1!B36<>A10,0,1) -> 1 | H33: =SUM(C33*H2)*G33 -> 0 | K33: =IF(ISBLANK(Foglio1!J36),"0",VLOOKUP(Foglio1!J36,$I$3:$J$4,2,FALSE))*(D33*E33) -> 0 | N33: =IF(ISBLANK(Foglio1!L36),"0",VLOOKUP(Foglio1!L36,$L$3:$M$4,2,FALSE))*(D33*E33) -> 0 | Q33: =IF(ISBLANK(Foglio1!N36),"0",VLOOKUP(Foglio1!N36,$O$3:$P$4,2,FALSE))*(D33*E33) -> 0 | T33: =IF(ISBLANK(Foglio1!P36),"0",VLOOKUP(Foglio1!P36,$R$3:$S$4,2,FALSE))*(D33*E33) -> 0 | W33: =IF(ISBLANK(Foglio1!S36),"0",VLOOKUP(Foglio1!S36,$U$3:$V$10,2,FALSE))*(D33*E33)*Foglio1!W36 -> #VALUE!
B34: 100 | C34: =IF(ISBLANK(Foglio1!H37),"0",VLOOKUP(Foglio1!H37,A34:B65,2,FALSE))*(D34*E34)+$Z$4 -> 0 | D34: =IF(Foglio1!B37<>A5,1,0) -> 1 | E34: =IF(Foglio1!B37<>$A$6,1,0) -> 1 | F34: =IF(Foglio1!B37<>A10,0,1) -> 1 | G34: =IF(Foglio1!B37<>A10,0,1) -> 1 | H34: =SUM(C34*H2)*G34 -> 0 | K34: =IF(ISBLANK(Foglio1!J37),"0",VLOOKUP(Foglio1!J37,$I$3:$J$4,2,FALSE))*(D34*E34) -> 0 | N34: =IF(ISBLANK(Foglio1!L37),"0",VLOOKUP(Foglio1!L37,$L$3:$M$4,2,FALSE))*(D34*E34) -> 0 | Q34: =IF(ISBLANK(Foglio1!N37),"0",VLOOKUP(Foglio1!N37,$O$3:$P$4,2,FALSE))*(D34*E34) -> 0 | T34: =IF(ISBLANK(Foglio1!P37),"0",VLOOKUP(Foglio1!P37,$R$3:$S$4,2,FALSE))*(D34*E34) -> 0 | W34: =IF(ISBLANK(Foglio1!S37),"0",VLOOKUP(Foglio1!S37,$U$3:$V$10,2,FALSE))*(D34*E34)*Foglio1!W37 -> #VALUE!
C35: =IF(ISBLANK(Foglio1!H38),"0",VLOOKUP(Foglio1!H38,A35:B66,2,FALSE))*(D35*E35)+$Z$4 -> 0 | D35: =IF(Foglio1!B38<>A5,1,0) -> 1 | E35: =IF(Foglio1!B38<>$A$6,1,0) -> 1 | F35: =IF(Foglio1!B38<>A10,0,1) -> 1 | G35: =IF(Foglio1!B38<>A10,0,1) -> 1 | H35: =SUM(C35*H2)*G35 -> 0 | K35: =IF(ISBLANK(Foglio1!J38),"0",VLOOKUP(Foglio1!J38,$I$3:$J$4,2,FALSE))*(D35*E35) -> 0 | N35: =IF(ISBLANK(Foglio1!L38),"0",VLOOKUP(Foglio1!L38,$L$3:$M$4,2,FALSE))*(D35*E35) -> 0 | Q35: =IF(ISBLANK(Foglio1!N38),"0",VLOOKUP(Foglio1!N38,$O$3:$P$4,2,FALSE))*(D35*E35) -> 0 | T35: =IF(ISBLANK(Foglio1!P38),"0",VLOOKUP(Foglio1!P38,$R$3:$S$4,2,FALSE))*(D35*E35) -> 0 | W35: =IF(ISBLANK(Foglio1!S38),"0",VLOOKUP(Foglio1!S38,$U$3:$V$10,2,FALSE))*(D35*E35)*Foglio1!W38 -> #VALUE!
C36: =IF(ISBLANK(Foglio1!H39),"0",VLOOKUP(Foglio1!H39,A36:B67,2,FALSE))*(D36*E36)+$Z$4 -> 0 | D36: =IF(Foglio1!B39<>A5,1,0) -> 1 | E36: =IF(Foglio1!B39<>$A$6,1,0) -> 1 | F36: =IF(Foglio1!B39<>A10,0,1) -> 1 | G36: =IF(Foglio1!B39<>A10,0,1) -> 1 | H36: =SUM(C36*H2)*G36 -> 0 | K36: =IF(ISBLANK(Foglio1!J39),"0",VLOOKUP(Foglio1!J39,$I$3:$J$4,2,FALSE))*(D36*E36) -> 0 | N36: =IF(ISBLANK(Foglio1!L39),"0",VLOOKUP(Foglio1!L39,$L$3:$M$4,2,FALSE))*(D36*E36) -> 0 | Q36: =IF(ISBLANK(Foglio1!N39),"0",VLOOKUP(Foglio1!N39,$O$3:$P$4,2,FALSE))*(D36*E36) -> 0 | T36: =IF(ISBLANK(Foglio1!P39),"0",VLOOKUP(Foglio1!P39,$R$3:$S$4,2,FALSE))*(D36*E36) -> 0 | W36: =IF(ISBLANK(Foglio1!S39),"0",VLOOKUP(Foglio1!S39,$U$3:$V$10,2,FALSE))*(D36*E36)*Foglio1!W39 -> #VALUE!
C37: =IF(ISBLANK(Foglio1!H40),"0",VLOOKUP(Foglio1!H40,A37:B68,2,FALSE))*(D37*E37)+$Z$4 -> 0 | D37: =IF(Foglio1!B40<>A5,1,0) -> 1 | E37: =IF(Foglio1!B40<>$A$6,1,0) -> 1 | F37: =IF(Foglio1!B40<>A10,0,1) -> 1 | G37: =IF(Foglio1!B40<>A10,0,1) -> 1 | H37: =SUM(C37*H2)*G37 -> 0 | K37: =IF(ISBLANK(Foglio1!J40),"0",VLOOKUP(Foglio1!J40,$I$3:$J$4,2,FALSE))*(D37*E37) -> 0 | N37: =IF(ISBLANK(Foglio1!L40),"0",VLOOKUP(Foglio1!L40,$L$3:$M$4,2,FALSE))*(D37*E37) -> 0 | Q37: =IF(ISBLANK(Foglio1!N40),"0",VLOOKUP(Foglio1!N40,$O$3:$P$4,2,FALSE))*(D37*E37) -> 0 | T37: =IF(ISBLANK(Foglio1!P40),"0",VLOOKUP(Foglio1!P40,$R$3:$S$4,2,FALSE))*(D37*E37) -> 0 | W37: =IF(ISBLANK(Foglio1!S40),"0",VLOOKUP(Foglio1!S40,$U$3:$V$10,2,FALSE))*(D37*E37)*Foglio1!W40 -> #VALUE!
C38: =IF(ISBLANK(Foglio1!H41),"0",VLOOKUP(Foglio1!H41,A38:B69,2,FALSE))*(D38*E38)+$Z$4 -> 0 | D38: =IF(Foglio1!B41<>A5,1,0) -> 1 | E38: =IF(Foglio1!B41<>$A$6,1,0) -> 1 | F38: =IF(Foglio1!B41<>A10,0,1) -> 1 | G38: =IF(Foglio1!B41<>A10,0,1) -> 1 | H38: =SUM(C38*H2)*G38 -> 0 | K38: =IF(ISBLANK(Foglio1!J41),"0",VLOOKUP(Foglio1!J41,$I$3:$J$4,2,FALSE))*(D38*E38) -> 0 | N38: =IF(ISBLANK(Foglio1!L41),"0",VLOOKUP(Foglio1!L41,$L$3:$M$4,2,FALSE))*(D38*E38) -> 0 | Q38: =IF(ISBLANK(Foglio1!N41),"0",VLOOKUP(Foglio1!N41,$O$3:$P$4,2,FALSE))*(D38*E38) -> 0 | T38: =IF(ISBLANK(Foglio1!P41),"0",VLOOKUP(Foglio1!P41,$R$3:$S$4,2,FALSE))*(D38*E38) -> 0 | W38: =IF(ISBLANK(Foglio1!S41),"0",VLOOKUP(Foglio1!S41,$U$3:$V$10,2,FALSE))*(D38*E38)*Foglio1!W41 -> #VALUE!
C39: =IF(ISBLANK(Foglio1!H42),"0",VLOOKUP(Foglio1!H42,A39:B70,2,FALSE))*(D39*E39)+$Z$4 -> 0 | D39: =IF(Foglio1!B42<>A5,1,0) -> 1 | E39: =IF(Foglio1!B42<>$A$6,1,0) -> 1 | F39: =IF(Foglio1!B42<>A10,0,1) -> 1 | G39: =IF(Foglio1!B42<>A10,0,1) -> 1 | H39: =SUM(C39*H2)*G39 -> 0 | K39: =IF(ISBLANK(Foglio1!J42),"0",VLOOKUP(Foglio1!J42,$I$3:$J$4,2,FALSE))*(D39*E39) -> 0 | N39: =IF(ISBLANK(Foglio1!L42),"0",VLOOKUP(Foglio1!L42,$L$3:$M$4,2,FALSE))*(D39*E39) -> 0 | Q39: =IF(ISBLANK(Foglio1!N42),"0",VLOOKUP(Foglio1!N42,$O$3:$P$4,2,FALSE))*(D39*E39) -> 0 | T39: =IF(ISBLANK(Foglio1!P42),"0",VLOOKUP(Foglio1!P42,$R$3:$S$4,2,FALSE))*(D39*E39) -> 0 | W39: =IF(ISBLANK(Foglio1!S42),"0",VLOOKUP(Foglio1!S42,$U$3:$V$10,2,FALSE))*(D39*E39)*Foglio1!W42 -> #VALUE!
C40: =IF(ISBLANK(Foglio1!H43),"0",VLOOKUP(Foglio1!H43,A40:B71,2,FALSE))*(D40*E40)+$Z$4 -> 0 | D40: =IF(Foglio1!B43<>A5,1,0) -> 1 | E40: =IF(Foglio1!B43<>$A$6,1,0) -> 1 | F40: =IF(Foglio1!B43<>A10,0,1) -> 1 | G40: =IF(Foglio1!B43<>A10,0,1) -> 1 | H40: =SUM(C40*H2)*G40 -> 0 | K40: =IF(ISBLANK(Foglio1!J43),"0",VLOOKUP(Foglio1!J43,$I$3:$J$4,2,FALSE))*(D40*E40) -> 0 | N40: =IF(ISBLANK(Foglio1!L43),"0",VLOOKUP(Foglio1!L43,$L$3:$M$4,2,FALSE))*(D40*E40) -> 0 | Q40: =IF(ISBLANK(Foglio1!N43),"0",VLOOKUP(Foglio1!N43,$O$3:$P$4,2,FALSE))*(D40*E40) -> 0 | T40: =IF(ISBLANK(Foglio1!P43),"0",VLOOKUP(Foglio1!P43,$R$3:$S$4,2,FALSE))*(D40*E40) -> 0 | W40: =IF(ISBLANK(Foglio1!S43),"0",VLOOKUP(Foglio1!S43,$U$3:$V$10,2,FALSE))*(D40*E40)*Foglio1!W43 -> #VALUE!
C41: =IF(ISBLANK(Foglio1!H44),"0",VLOOKUP(Foglio1!H44,A41:B72,2,FALSE))*(D41*E41)+$Z$4 -> 0 | D41: =IF(Foglio1!B44<>A5,1,0) -> 1 | E41: =IF(Foglio1!B44<>$A$6,1,0) -> 1 | F41: =IF(Foglio1!B44<>A10,0,1) -> 1 | G41: =IF(Foglio1!B44<>A10,0,1) -> 1 | H41: =SUM(C41*H2)*G41 -> 0 | K41: =IF(ISBLANK(Foglio1!J44),"0",VLOOKUP(Foglio1!J44,$I$3:$J$4,2,FALSE))*(D41*E41) -> 0 | N41: =IF(ISBLANK(Foglio1!L44),"0",VLOOKUP(Foglio1!L44,$L$3:$M$4,2,FALSE))*(D41*E41) -> 0 | Q41: =IF(ISBLANK(Foglio1!N44),"0",VLOOKUP(Foglio1!N44,$O$3:$P$4,2,FALSE))*(D41*E41) -> 0 | T41: =IF(ISBLANK(Foglio1!P44),"0",VLOOKUP(Foglio1!P44,$R$3:$S$4,2,FALSE))*(D41*E41) -> 0 | W41: =IF(ISBLANK(Foglio1!S44),"0",VLOOKUP(Foglio1!S44,$U$3:$V$10,2,FALSE))*(D41*E41)*Foglio1!W44 -> #VALUE!
...

Sheet HOTEL
A1: PRENOTAZIONI HOTEL
A2: =Foglio1!B3 -> 0
A3: HOTEL
A4: Totale complessivo

Sheet Stage
A1: ISCRIZIONI STAGE: | B1: =Foglio1!B3 -> 0
B3: Etichette di colonna
B4: Somma di COSTO totale | C4: Conteggio di TITOLO totale
A5: Etichette di riga
A6: Totale complessivo

Sheet Pranzo
A1: PRENOTAZIONI PRANZO: | B1: =Foglio1!B3 -> 0
A3: Etichette di riga | B3: Conteggio di COSTO pranzo | C3: Somma di COSTO pranzo
A4: Totale complessivo

Sheet Cena
A1: PRENOTAZIONI CENA: | B1: =Foglio1!B3 -> 0
A3: Etichette di riga | B3: Conteggio di COSTO cena | C3: Somma di COSTO cena2
A4: Totale complessivo
